BEGIN:VCALENDAR
VERSION:2.0
PRODID:-//hacksw/handcal//NONSGML v1.0//EN
CALSCALE:GREGORIAN
BEGIN:VTIMEZONE
TZID:Europe/Berlin
X-LIC-LOCATION:Europe/Berlin
BEGIN:DAYLIGHT
TZOFFSETFROM:+0100
TZOFFSETTO:+0200
TZNAME:CEST
DTSTART:19700329T020000
RRULE:FREQ=YEARLY;INTERVAL=1;BYDAY=-1SU;BYMONTH=3
END:DAYLIGHT
BEGIN:STANDARD
TZOFFSETFROM:+0200
TZOFFSETTO:+0100
TZNAME:CET
DTSTART:19701025T030000
RRULE:FREQ=YEARLY;INTERVAL=1;BYDAY=-1SU;BYMONTH=10
END:STANDARD
END:VTIMEZONE
BEGIN:VEVENT
DTSTART;TZID=Europe/Berlin:20220308T150000
DTEND;TZID=Europe/Berlin:20220308T184500
UID:69e7e2663781c
DTSTAMP:20260421T204734Z
LOCATION:Die Zoom-Zugangsdaten werden nach der Anmeldung verschickt
DESCRIPTION:Im Unterrichtsalltag\, im Lehrerzimmer und im Internet begegnen
  uns immer wieder Vorurteile und Stammtischparolen. In diesem bpb:seminar d
 igital erfahren Lehrkräfte\, wie sie handlungsfähig und demokratiestärke
 nd bleiben\, statt zu verstummen.\n\nhttps://www.bpb.de/veranstaltungen/ver
 anstaltungskalender/329077/handlungsstrategien-im-umgang-mit-parolen-in-der
 -schule/
URL;VALUE=URI:https://www.bpb.de/veranstaltungen/veranstaltungskalender/329
 077/handlungsstrategien-im-umgang-mit-parolen-in-der-schule/
SUMMARY:Handlungsstrategien im Umgang mit Parolen in der Schule
END:VEVENT
END:VCALENDAR
