BEGIN:VCALENDAR
VERSION:2.0
PRODID:-//hacksw/handcal//NONSGML v1.0//EN
CALSCALE:GREGORIAN
BEGIN:VTIMEZONE
TZID:Europe/Berlin
X-LIC-LOCATION:Europe/Berlin
BEGIN:DAYLIGHT
TZOFFSETFROM:+0100
TZOFFSETTO:+0200
TZNAME:CEST
DTSTART:19700329T020000
RRULE:FREQ=YEARLY;INTERVAL=1;BYDAY=-1SU;BYMONTH=3
END:DAYLIGHT
BEGIN:STANDARD
TZOFFSETFROM:+0200
TZOFFSETTO:+0100
TZNAME:CET
DTSTART:19701025T030000
RRULE:FREQ=YEARLY;INTERVAL=1;BYDAY=-1SU;BYMONTH=10
END:STANDARD
END:VTIMEZONE
BEGIN:VEVENT
DTSTART;TZID=Europe/Berlin:20211010T000000
DTEND;TZID=Europe/Berlin:20220401T235900
UID:69e7e2bce0fe8
DTSTAMP:20260421T204900Z
LOCATION:Deutsch-Deutsches Museum Mödlareuth\n Mödlareuth 13\n 95183 Töp
 en
DESCRIPTION:60 Jahre nach dem Mauerbau erinnert die Bundeszentrale für pol
 itische Bildung/bpb vom 10. Oktober bis 31.03.2022 mit einer Ausstellung im
  Deutsch-Deutschen Museum Mödlareuth an das menschenverachtende Bauwerk.\n
 \nhttps://www.bpb.de/veranstaltungen/veranstaltungskalender/341653/die-maue
 r-1961-bis-2021/
URL;VALUE=URI:https://www.bpb.de/veranstaltungen/veranstaltungskalender/341
 653/die-mauer-1961-bis-2021/
SUMMARY:"Die Mauer - 1961 bis 2021"
END:VEVENT
END:VCALENDAR
