BEGIN:VCALENDAR
VERSION:2.0
PRODID:-//hacksw/handcal//NONSGML v1.0//EN
CALSCALE:GREGORIAN
BEGIN:VTIMEZONE
TZID:Europe/Berlin
X-LIC-LOCATION:Europe/Berlin
BEGIN:DAYLIGHT
TZOFFSETFROM:+0100
TZOFFSETTO:+0200
TZNAME:CEST
DTSTART:19700329T020000
RRULE:FREQ=YEARLY;INTERVAL=1;BYDAY=-1SU;BYMONTH=3
END:DAYLIGHT
BEGIN:STANDARD
TZOFFSETFROM:+0200
TZOFFSETTO:+0100
TZNAME:CET
DTSTART:19701025T030000
RRULE:FREQ=YEARLY;INTERVAL=1;BYDAY=-1SU;BYMONTH=10
END:STANDARD
END:VTIMEZONE
BEGIN:VEVENT
DTSTART;TZID=Europe/Berlin:20220114T180000
DTEND;TZID=Europe/Berlin:20220114T193000
UID:69e7e265c0b0a
DTSTAMP:20260421T204733Z
LOCATION:
DESCRIPTION:Frankreich und Deutschland verbindet eine enge Freundschaft. Di
 e Beziehung zwischen den beiden Nachbarländern\, die nach Jahrzehnten der 
 "Erbfeindschaft" auf den Zweiten Weltkrieg folgte\, ist international beisp
 iellos. Gesprächsrunde vor dem Hintergrund der französischen EU-Ratspräs
 identschaft.\n\nhttps://www.bpb.de/veranstaltungen/veranstaltungskalender/3
 45669/laenderbericht-frankreich/
URL;VALUE=URI:https://www.bpb.de/veranstaltungen/veranstaltungskalender/345
 669/laenderbericht-frankreich/
SUMMARY:Länderbericht Frankreich
END:VEVENT
END:VCALENDAR
