BEGIN:VCALENDAR
VERSION:2.0
PRODID:-//hacksw/handcal//NONSGML v1.0//EN
CALSCALE:GREGORIAN
BEGIN:VTIMEZONE
TZID:Europe/Berlin
X-LIC-LOCATION:Europe/Berlin
BEGIN:DAYLIGHT
TZOFFSETFROM:+0100
TZOFFSETTO:+0200
TZNAME:CEST
DTSTART:19700329T020000
RRULE:FREQ=YEARLY;INTERVAL=1;BYDAY=-1SU;BYMONTH=3
END:DAYLIGHT
BEGIN:STANDARD
TZOFFSETFROM:+0200
TZOFFSETTO:+0100
TZNAME:CET
DTSTART:19701025T030000
RRULE:FREQ=YEARLY;INTERVAL=1;BYDAY=-1SU;BYMONTH=10
END:STANDARD
END:VTIMEZONE
BEGIN:VEVENT
DTSTART;TZID=Europe/Berlin:20220127T190000
DTEND;TZID=Europe/Berlin:20220127T200000
UID:69e7e24b6ab3a
DTSTAMP:20260421T204707Z
LOCATION:
DESCRIPTION:January 27 is International Holocaust Remembrance Day. histoCON
  on this day as an opportunity to invite all interested parties to join our
  histoTALK on Holocaust Remembrance in a Zoom webinar from 7 to 8 pm CET.\n
 \nhttps://www.bpb.de/veranstaltungen/veranstaltungskalender/346206/histotal
 k-remembering-the-holocaust/
URL;VALUE=URI:https://www.bpb.de/veranstaltungen/veranstaltungskalender/346
 206/histotalk-remembering-the-holocaust/
SUMMARY:histoTALK: Remembering the Holocaust
END:VEVENT
END:VCALENDAR
