BEGIN:VCALENDAR
VERSION:2.0
PRODID:-//hacksw/handcal//NONSGML v1.0//EN
CALSCALE:GREGORIAN
BEGIN:VTIMEZONE
TZID:Europe/Berlin
X-LIC-LOCATION:Europe/Berlin
BEGIN:DAYLIGHT
TZOFFSETFROM:+0100
TZOFFSETTO:+0200
TZNAME:CEST
DTSTART:19700329T020000
RRULE:FREQ=YEARLY;INTERVAL=1;BYDAY=-1SU;BYMONTH=3
END:DAYLIGHT
BEGIN:STANDARD
TZOFFSETFROM:+0200
TZOFFSETTO:+0100
TZNAME:CET
DTSTART:19701025T030000
RRULE:FREQ=YEARLY;INTERVAL=1;BYDAY=-1SU;BYMONTH=10
END:STANDARD
END:VTIMEZONE
BEGIN:VEVENT
DTSTART;TZID=Europe/Berlin:20220221T190000
DTEND;TZID=Europe/Berlin:20220221T204000
UID:69e7e2bcb8ad6
DTSTAMP:20260421T204900Z
LOCATION:
DESCRIPTION:Die Lage an der ukrainischen Grenze bleibt angespannt. Russland
  hatte einen Teilabzug der nahe der Ukraine stationierten Truppen angekünd
 igt\, Beobachter der USA und der Nato berichten aber von zusätzlicher Mobi
 lisierung. Auch sich intensivierende Schusswechsel an der Front im Donbass 
 nähren die Befürchtung einer bevorstehenden Eskalation. In dieser Situati
 on\, in diesem Winter\, setzt die Bundeszentrale für politische Bildung ih
 re bisherigen „virtuellen“ Bahnfahrten durch Europas Osten fort. Am Mon
 tag\, den 21.02.2022 werden per Livestream drei Orte entlang der Strecke de
 s Schnellzuges „D8“ angefahren. Die Reise beginnt in Czernowitz\, führ
 t über Ivano-Frankivsk bis nach Lviv (Lemberg). Es steigen zu: Lilija Shut
 iak (Journalistin)\, Juri Andruchowytsch (Schriftsteller) und Chrystyna Naz
 arkewytsch (Übersetzerin aus dem Deutschen und Dozentin am Lehrstuhl für 
 Deutsche Philologie der Nationalen Ivan Franko-Universität Lviv).\n\nhttps
 ://www.bpb.de/veranstaltungen/reihen/digitale-studienreisen/go-east-iii/505
 400/kriegsgefahr-oder-entspannung/
URL;VALUE=URI:https://www.bpb.de/veranstaltungen/reihen/digitale-studienrei
 sen/go-east-iii/505400/kriegsgefahr-oder-entspannung/
SUMMARY:Kriegsgefahr oder Entspannung?
END:VEVENT
END:VCALENDAR
