BEGIN:VCALENDAR
VERSION:2.0
PRODID:-//hacksw/handcal//NONSGML v1.0//EN
CALSCALE:GREGORIAN
BEGIN:VTIMEZONE
TZID:Europe/Berlin
X-LIC-LOCATION:Europe/Berlin
BEGIN:DAYLIGHT
TZOFFSETFROM:+0100
TZOFFSETTO:+0200
TZNAME:CEST
DTSTART:19700329T020000
RRULE:FREQ=YEARLY;INTERVAL=1;BYDAY=-1SU;BYMONTH=3
END:DAYLIGHT
BEGIN:STANDARD
TZOFFSETFROM:+0200
TZOFFSETTO:+0100
TZNAME:CET
DTSTART:19701025T030000
RRULE:FREQ=YEARLY;INTERVAL=1;BYDAY=-1SU;BYMONTH=10
END:STANDARD
END:VTIMEZONE
BEGIN:VEVENT
DTSTART;TZID=Europe/Berlin:20220423T100000
DTEND;TZID=Europe/Berlin:20220423T160000
UID:69e7b7ea2e3b5
DTSTAMP:20260421T174618Z
LOCATION:
DESCRIPTION:Die gemeinsam von bpb und dem Verein ufuq.de entwickelte Fortbi
 ldung greift Fragen von Lehrkräften auf und regt durch ein vielfältiges\,
  praxisorientiertes Programm zu Austausch und Selbstreflexion an.\n\nhttps:
 //www.bpb.de/veranstaltungen/veranstaltungskalender/506241/identitaetsfacet
 te-religion/
URL;VALUE=URI:https://www.bpb.de/veranstaltungen/veranstaltungskalender/506
 241/identitaetsfacette-religion/
SUMMARY:Identitätsfacette Religion
END:VEVENT
END:VCALENDAR
