BEGIN:VCALENDAR
VERSION:2.0
PRODID:-//hacksw/handcal//NONSGML v1.0//EN
CALSCALE:GREGORIAN
BEGIN:VTIMEZONE
TZID:Europe/Berlin
X-LIC-LOCATION:Europe/Berlin
BEGIN:DAYLIGHT
TZOFFSETFROM:+0100
TZOFFSETTO:+0200
TZNAME:CEST
DTSTART:19700329T020000
RRULE:FREQ=YEARLY;INTERVAL=1;BYDAY=-1SU;BYMONTH=3
END:DAYLIGHT
BEGIN:STANDARD
TZOFFSETFROM:+0200
TZOFFSETTO:+0100
TZNAME:CET
DTSTART:19701025T030000
RRULE:FREQ=YEARLY;INTERVAL=1;BYDAY=-1SU;BYMONTH=10
END:STANDARD
END:VTIMEZONE
BEGIN:VEVENT
DTSTART;TZID=Europe/Berlin:20220414T000000
DTEND;TZID=Europe/Berlin:20220419T000000
UID:69e7b7ea551e3
DTSTAMP:20260421T174618Z
LOCATION:Stiftung »Europäische Jugendbildungs-  und Jugendbegegnungsstät
 te Weimar« Jenaer Straße 2–4 99425 Weimar
DESCRIPTION:In Kooperation mit der Bundeszentrale für politische Bildung/b
 pb bietet die Europäische Jugendbildungs- und Jugendbegegnungsstätte Weim
 ar/EJBW eine Akademie für Interessierte am und für Akteur*innen im Themen
 feld (De-)Kolonialität.\n\nhttps://www.bpb.de/veranstaltungen/veranstaltun
 gskalender/507197/osterakademie-de-kolonialitaet-in-deutschland/
URL;VALUE=URI:https://www.bpb.de/veranstaltungen/veranstaltungskalender/507
 197/osterakademie-de-kolonialitaet-in-deutschland/
SUMMARY:Osterakademie [De-] Kolonialität in Deutschland
END:VEVENT
END:VCALENDAR
