BEGIN:VCALENDAR
VERSION:2.0
PRODID:-//hacksw/handcal//NONSGML v1.0//EN
CALSCALE:GREGORIAN
BEGIN:VTIMEZONE
TZID:Europe/Berlin
X-LIC-LOCATION:Europe/Berlin
BEGIN:DAYLIGHT
TZOFFSETFROM:+0100
TZOFFSETTO:+0200
TZNAME:CEST
DTSTART:19700329T020000
RRULE:FREQ=YEARLY;INTERVAL=1;BYDAY=-1SU;BYMONTH=3
END:DAYLIGHT
BEGIN:STANDARD
TZOFFSETFROM:+0200
TZOFFSETTO:+0100
TZNAME:CET
DTSTART:19701025T030000
RRULE:FREQ=YEARLY;INTERVAL=1;BYDAY=-1SU;BYMONTH=10
END:STANDARD
END:VTIMEZONE
BEGIN:VEVENT
DTSTART;TZID=Europe/Berlin:20220511T183000
DTEND;TZID=Europe/Berlin:20220511T210000
UID:69e7e28e731f8
DTSTAMP:20260421T204814Z
LOCATION:Spreespeicher (030 Eventloft) Stralauer Allee 2A 10245 Berlin
DESCRIPTION:Unterschiede zwischen "östlichen" und "westlichen" Darstellung
 en von KI\, kommunistische Visionen von intelligenten Maschinen und anti-ko
 lonialistische KI-Narrative. Warum haben diese marginalisierten Perspektive
 n auch heute noch eine hohe gesellschaftliche Relevanz?\n\nhttps://www.bpb.
 de/veranstaltungen/veranstaltungskalender/507952/wie-die-welt-intelligente-
 maschinen-wahrnimmt/
URL;VALUE=URI:https://www.bpb.de/veranstaltungen/veranstaltungskalender/507
 952/wie-die-welt-intelligente-maschinen-wahrnimmt/
SUMMARY:Wie die Welt intelligente Maschinen wahrnimmt
END:VEVENT
END:VCALENDAR
