BEGIN:VCALENDAR
VERSION:2.0
PRODID:-//hacksw/handcal//NONSGML v1.0//EN
CALSCALE:GREGORIAN
BEGIN:VTIMEZONE
TZID:Europe/Berlin
X-LIC-LOCATION:Europe/Berlin
BEGIN:DAYLIGHT
TZOFFSETFROM:+0100
TZOFFSETTO:+0200
TZNAME:CEST
DTSTART:19700329T020000
RRULE:FREQ=YEARLY;INTERVAL=1;BYDAY=-1SU;BYMONTH=3
END:DAYLIGHT
BEGIN:STANDARD
TZOFFSETFROM:+0200
TZOFFSETTO:+0100
TZNAME:CET
DTSTART:19701025T030000
RRULE:FREQ=YEARLY;INTERVAL=1;BYDAY=-1SU;BYMONTH=10
END:STANDARD
END:VTIMEZONE
BEGIN:VEVENT
DTSTART;TZID=Europe/Berlin:20220525T100000
DTEND;TZID=Europe/Berlin:20220525T150000
UID:69e7e2bd682b7
DTSTAMP:20260421T204901Z
LOCATION:Der Link zum Workshop-Raum wird nach Anmeldung per E-Mail zugeschi
 ckt.
DESCRIPTION:Online Workshop über die Auswirkungen extremistischer digitale
 r Kommunikationsstrategien auf die Präventionspraxis\n\nhttps://www.bpb.de
 /veranstaltungen/veranstaltungskalender/508314/auswirkungen-extremistischer
 -digitaler-kommunikationsstrategien-auf-die-praeventionspraxis/
URL;VALUE=URI:https://www.bpb.de/veranstaltungen/veranstaltungskalender/508
 314/auswirkungen-extremistischer-digitaler-kommunikationsstrategien-auf-die
 -praeventionspraxis/
SUMMARY:Auswirkungen extremistischer digitaler Kommunikationsstrategien auf
  die Präventionspraxis
END:VEVENT
END:VCALENDAR
