BEGIN:VCALENDAR
VERSION:2.0
PRODID:-//hacksw/handcal//NONSGML v1.0//EN
CALSCALE:GREGORIAN
BEGIN:VTIMEZONE
TZID:Europe/Berlin
X-LIC-LOCATION:Europe/Berlin
BEGIN:DAYLIGHT
TZOFFSETFROM:+0100
TZOFFSETTO:+0200
TZNAME:CEST
DTSTART:19700329T020000
RRULE:FREQ=YEARLY;INTERVAL=1;BYDAY=-1SU;BYMONTH=3
END:DAYLIGHT
BEGIN:STANDARD
TZOFFSETFROM:+0200
TZOFFSETTO:+0100
TZNAME:CET
DTSTART:19701025T030000
RRULE:FREQ=YEARLY;INTERVAL=1;BYDAY=-1SU;BYMONTH=10
END:STANDARD
END:VTIMEZONE
BEGIN:VEVENT
DTSTART;TZID=Europe/Berlin:20220629T124500
DTEND;TZID=Europe/Berlin:20220629T140000
UID:69e7e2c2da90a
DTSTAMP:20260421T204906Z
LOCATION:Zoom
DESCRIPTION:Die Veranstaltung bietet kommunalen Amts- und Mandatsträger/-i
 nnen in Brandenburg die Möglichkeit Ihre Handlungskompetenz im Umgang mit 
 Anfeindungen und Bedrohungen in Sozialen Netzwerken zu stärken und sich mi
 t Amtskolleg/-innen zu besondere Herausforderungen im Amt auszutauschen.\n\
 nhttps://www.bpb.de/veranstaltungen/veranstaltungskalender/508831/kommunale
 -konfliktbewaeltigung/
URL;VALUE=URI:https://www.bpb.de/veranstaltungen/veranstaltungskalender/508
 831/kommunale-konfliktbewaeltigung/
SUMMARY:Kommunale Konfliktbewältigung
END:VEVENT
END:VCALENDAR
