BEGIN:VCALENDAR
VERSION:2.0
PRODID:-//hacksw/handcal//NONSGML v1.0//EN
CALSCALE:GREGORIAN
BEGIN:VTIMEZONE
TZID:Europe/Berlin
X-LIC-LOCATION:Europe/Berlin
BEGIN:DAYLIGHT
TZOFFSETFROM:+0100
TZOFFSETTO:+0200
TZNAME:CEST
DTSTART:19700329T020000
RRULE:FREQ=YEARLY;INTERVAL=1;BYDAY=-1SU;BYMONTH=3
END:DAYLIGHT
BEGIN:STANDARD
TZOFFSETFROM:+0200
TZOFFSETTO:+0100
TZNAME:CET
DTSTART:19701025T030000
RRULE:FREQ=YEARLY;INTERVAL=1;BYDAY=-1SU;BYMONTH=10
END:STANDARD
END:VTIMEZONE
BEGIN:VEVENT
DTSTART;TZID=Europe/Berlin:20220704T190000
DTEND;TZID=Europe/Berlin:20220704T210000
UID:69e7e22237b8c
DTSTAMP:20260421T204626Z
LOCATION:Bundeszentrale für politische Bildung\, Friedrichstraße 50\, 4. 
 Stock\, 10117 Berlin
DESCRIPTION:Die Folgen des Klimawandels haben in der Landwirtschaft in den 
 vergangenen Jahren deutliche Spuren hinterlassen. Doch die Landwirtschaft i
 st nicht nur Opfer der Klimakrise\, sie ist auch Verursacherin. Wie nachhal
 tig wird unsere Landwirtschaft in Zukunft sein und was ist dafür notwendig
 ?\n\nhttps://www.bpb.de/veranstaltungen/veranstaltungskalender/509573/check
 point-bpb-die-montagsgespraeche-landwirtschaft-und-klimaschutz-im-einklang/
URL;VALUE=URI:https://www.bpb.de/veranstaltungen/veranstaltungskalender/509
 573/checkpoint-bpb-die-montagsgespraeche-landwirtschaft-und-klimaschutz-im-
 einklang/
SUMMARY:Checkpoint bpb –   Die Montagsgespräche: Landwirtschaft und Klim
 aschutz im Einklang?
END:VEVENT
END:VCALENDAR
