BEGIN:VCALENDAR
VERSION:2.0
PRODID:-//hacksw/handcal//NONSGML v1.0//EN
CALSCALE:GREGORIAN
BEGIN:VTIMEZONE
TZID:Europe/Berlin
X-LIC-LOCATION:Europe/Berlin
BEGIN:DAYLIGHT
TZOFFSETFROM:+0100
TZOFFSETTO:+0200
TZNAME:CEST
DTSTART:19700329T020000
RRULE:FREQ=YEARLY;INTERVAL=1;BYDAY=-1SU;BYMONTH=3
END:DAYLIGHT
BEGIN:STANDARD
TZOFFSETFROM:+0200
TZOFFSETTO:+0100
TZNAME:CET
DTSTART:19701025T030000
RRULE:FREQ=YEARLY;INTERVAL=1;BYDAY=-1SU;BYMONTH=10
END:STANDARD
END:VTIMEZONE
BEGIN:VEVENT
DTSTART;TZID=Europe/Berlin:20220713T180000
DTEND;TZID=Europe/Berlin:20220713T200000
UID:69e7e265a9b8a
DTSTAMP:20260421T204733Z
LOCATION:ACC Galerie Weimar Burgplatz 1 99423 Weimar
DESCRIPTION:Herzliche Einladung zu den Erzählcafés unseres Projektes an 1
 4 Orten in Thüringen mit den beteiligten bildenden und darstellenden Küns
 tlerinnen und Künstlern des Kunstfestes Weimar.\n\nhttps://www.bpb.de/vera
 nstaltungen/veranstaltungskalender/510524/thueringer-verfuehrungen-was-fael
 lt-euch-denn-ein/
URL;VALUE=URI:https://www.bpb.de/veranstaltungen/veranstaltungskalender/510
 524/thueringer-verfuehrungen-was-faellt-euch-denn-ein/
SUMMARY:Thüringer Verführungen: Was fällt Euch denn ein!?
END:VEVENT
END:VCALENDAR
