BEGIN:VCALENDAR
VERSION:2.0
PRODID:-//hacksw/handcal//NONSGML v1.0//EN
CALSCALE:GREGORIAN
BEGIN:VTIMEZONE
TZID:Europe/Berlin
X-LIC-LOCATION:Europe/Berlin
BEGIN:DAYLIGHT
TZOFFSETFROM:+0100
TZOFFSETTO:+0200
TZNAME:CEST
DTSTART:19700329T020000
RRULE:FREQ=YEARLY;INTERVAL=1;BYDAY=-1SU;BYMONTH=3
END:DAYLIGHT
BEGIN:STANDARD
TZOFFSETFROM:+0200
TZOFFSETTO:+0100
TZNAME:CET
DTSTART:19701025T030000
RRULE:FREQ=YEARLY;INTERVAL=1;BYDAY=-1SU;BYMONTH=10
END:STANDARD
END:VTIMEZONE
BEGIN:VEVENT
DTSTART;TZID=Europe/Berlin:20220809T200000
DTEND;TZID=Europe/Berlin:20220809T221500
UID:69e7fa4284b5a
DTSTAMP:20260421T222922Z
LOCATION:Kinder- und Jugendzentrum Bumerang\; Werner-Petzold-Straße 10\, 0
 7549 Gera
DESCRIPTION:Filmgespräch & Filmvorführung von  "Alfed Zitterbacke" mit He
 lmut Rossmann (Hauptdarsteller Alfons Zitterbacke) und Nhi Le (Journalistin
 \, Speakerin und Moderatorin\; angefragt)\n\nhttps://www.bpb.de/veranstaltu
 ngen/veranstaltungskalender/510544/alfons-zitterbacke-1966/
URL;VALUE=URI:https://www.bpb.de/veranstaltungen/veranstaltungskalender/510
 544/alfons-zitterbacke-1966/
SUMMARY:Alfons Zitterbacke (1966)
END:VEVENT
END:VCALENDAR
