BEGIN:VCALENDAR
VERSION:2.0
PRODID:-//hacksw/handcal//NONSGML v1.0//EN
CALSCALE:GREGORIAN
BEGIN:VTIMEZONE
TZID:Europe/Berlin
X-LIC-LOCATION:Europe/Berlin
BEGIN:DAYLIGHT
TZOFFSETFROM:+0100
TZOFFSETTO:+0200
TZNAME:CEST
DTSTART:19700329T020000
RRULE:FREQ=YEARLY;INTERVAL=1;BYDAY=-1SU;BYMONTH=3
END:DAYLIGHT
BEGIN:STANDARD
TZOFFSETFROM:+0200
TZOFFSETTO:+0100
TZNAME:CET
DTSTART:19701025T030000
RRULE:FREQ=YEARLY;INTERVAL=1;BYDAY=-1SU;BYMONTH=10
END:STANDARD
END:VTIMEZONE
BEGIN:VEVENT
DTSTART;TZID=Europe/Berlin:20221005T180000
DTEND;TZID=Europe/Berlin:20221005T190000
UID:69e7e1e549f4e
DTSTAMP:20260421T204525Z
LOCATION:bpb:medienzentrum Bonn Adenauerallee 86 53113 Bonnund im Livestre
 am unter Externer Link: YouTube\n Externer Link: Facebook\n Externer Link: 
 Twitter
DESCRIPTION:In der Reihe zwischen/miete diskursiv laden die Bundeszentrale 
 für politische Bildung und das Literaturhaus Bonn junge Menschen ins bpb:m
 edienzentrum ein\, die was zu sagen haben. In dieser Folge sprechen wir mit
  Kristina Lunz. Vor Ort und im Livestream!\n\nhttps://www.bpb.de/veranstalt
 ungen/veranstaltungskalender/511681/zwischen-miete-diskursiv-mit-kristina-l
 unz/
URL;VALUE=URI:https://www.bpb.de/veranstaltungen/veranstaltungskalender/511
 681/zwischen-miete-diskursiv-mit-kristina-lunz/
SUMMARY:zwischen/miete diskursiv mit Kristina Lunz
END:VEVENT
END:VCALENDAR
