BEGIN:VCALENDAR
VERSION:2.0
PRODID:-//hacksw/handcal//NONSGML v1.0//EN
CALSCALE:GREGORIAN
BEGIN:VTIMEZONE
TZID:Europe/Berlin
X-LIC-LOCATION:Europe/Berlin
BEGIN:DAYLIGHT
TZOFFSETFROM:+0100
TZOFFSETTO:+0200
TZNAME:CEST
DTSTART:19700329T020000
RRULE:FREQ=YEARLY;INTERVAL=1;BYDAY=-1SU;BYMONTH=3
END:DAYLIGHT
BEGIN:STANDARD
TZOFFSETFROM:+0200
TZOFFSETTO:+0100
TZNAME:CET
DTSTART:19701025T030000
RRULE:FREQ=YEARLY;INTERVAL=1;BYDAY=-1SU;BYMONTH=10
END:STANDARD
END:VTIMEZONE
BEGIN:VEVENT
DTSTART;TZID=Europe/Berlin:20220916T100000
DTEND;TZID=Europe/Berlin:20220916T150000
UID:69e7e222508ee
DTSTAMP:20260421T204626Z
LOCATION:Link zum Workshop-Raum wird nach Anmeldung per E-Mail zugeschickt.
DESCRIPTION:Online Workshop über die Brückenelemente zwischen Rechtsextre
 mismus und Islamismus in den digitalen Medien.\n\nhttps://www.bpb.de/verans
 taltungen/veranstaltungskalender/512341/gleiche-konflikte-unterschiedliche-
 ideologien/
URL;VALUE=URI:https://www.bpb.de/veranstaltungen/veranstaltungskalender/512
 341/gleiche-konflikte-unterschiedliche-ideologien/
SUMMARY:Gleiche Konflikte? - Unterschiedliche Ideologien!
END:VEVENT
END:VCALENDAR
