BEGIN:VCALENDAR
VERSION:2.0
PRODID:-//hacksw/handcal//NONSGML v1.0//EN
CALSCALE:GREGORIAN
BEGIN:VTIMEZONE
TZID:Europe/Berlin
X-LIC-LOCATION:Europe/Berlin
BEGIN:DAYLIGHT
TZOFFSETFROM:+0100
TZOFFSETTO:+0200
TZNAME:CEST
DTSTART:19700329T020000
RRULE:FREQ=YEARLY;INTERVAL=1;BYDAY=-1SU;BYMONTH=3
END:DAYLIGHT
BEGIN:STANDARD
TZOFFSETFROM:+0200
TZOFFSETTO:+0100
TZNAME:CET
DTSTART:19701025T030000
RRULE:FREQ=YEARLY;INTERVAL=1;BYDAY=-1SU;BYMONTH=10
END:STANDARD
END:VTIMEZONE
BEGIN:VEVENT
DTSTART;TZID=Europe/Berlin:20221125T133000
DTEND;TZID=Europe/Berlin:20221125T220000
UID:69e9d65d114a6
DTSTAMP:20260423T082045Z
LOCATION:Haupteingänge Plenargebäude und Hauptgebäude: Platz der Vereint
 en Nationen 2 53113 BonnParkhaus: Karl-Carstens-Straße 4 / 53113 Bonn Par
 kplatz: Charles-de-Gaulle-Straße / 53113 Bonn    Wir empfehlen die Anreis
 e per ÖPNV\, zu Fuß oder mit dem Fahrrad.                                
             Stadtbahn ab Bonn Hauptbahnhof                            Stadt
 bahn - Linien 63/16 oder 66 in Richtung Bad Godesberg oder Königswinter/Ba
 d Honnef Ausstieg an der Haltestelle Heussallee/Museumsmeile und der Beschi
 lderung World Conference Center Bonn folgen (etwa 450 Meter Fußweg entlang
  der Heussallee bis zum Platz der Vereinten Nationen). Dort gehen Sie links
  auf den Platz der Vereinten Nationen. Die Haupteingänge des WorldCCBonn b
 efinden sich nach 100 Metern auf der linken Seite (Hauptgebäude) bzw. auf 
 der rechten Seite (Plenargebäude).                                        
                         Bus ab Bonn Hauptbahnhof                           
  Buslinien 610 und 611 (Richtung Pappelweg) ab Haltepunkt C4. Ausstieg an d
 er Haltestelle Deutsche Welle\, folgen Sie der Heussallee einige Meter bis 
 zum Platz der Vereinten Nationen. Biegen Sie dort links ab. Die Haupteingä
 nge des WorldCCBonn befinden sich nach 100 Metern auf der linken Seite (Hau
 ptgebäude) bzw. auf der rechten Seite (Plenargebäude).                   
                                              DB Haltestelle Bonn UN Campus 
                            Es halten Züge des Regionalverkehrs in Richtung
  Köln bzw. Koblenz\, keine ICE oder IC. Der Fußweg bis zum WorldCCBonn be
 trägt etwa 750 Meter (über Genscherallee und Heussallee). In Richtung Kon
 gresszentrum fahren auch die Busse der Linien 610 und 611 von der Haltestel
 le Bonn UN Campus bis zur Haltestelle Heussallee.                          
                                       Anreise über den Bahnhof Bonn Beuel 
                            Es gibt verschiedene Verbindungen mit Bus\, Stra
 ßenbahn oder Stadtbahn. Bitte lassen Sie sich über die Webseiten der Stad
 twerke Bonn oder des Verkehrsverbundes Rhein Sieg die möglichen Verbindung
 en anzeigen.Weitere Informationen zur Anreise finden Sie unter Externer Li
 nk: https://www.worldccbonn.com/kontakt/ .
DESCRIPTION:Am 25. November 2022 feiert die Bundeszentrale für politische 
 Bildung/bpb ihren 70. Geburtstag. Wir laden alle Bürgerinnen und Bürger h
 erzlich in den alten Deutschen Bundestag nach Bonn ein. Special: die große
  Wahl-O-Mat Quiz-Show!\n\nhttps://www.bpb.de/veranstaltungen/veranstaltungs
 kalender/512496/buerger-innenfest-70-jahre-bpb-die-grosse-geburtstagsfeier-
 in-bonn/
URL;VALUE=URI:https://www.bpb.de/veranstaltungen/veranstaltungskalender/512
 496/buerger-innenfest-70-jahre-bpb-die-grosse-geburtstagsfeier-in-bonn/
SUMMARY:Bürger/-innenfest: 70 Jahre bpb – die große Geburtstagsfeier in
  Bonn
END:VEVENT
END:VCALENDAR
