BEGIN:VCALENDAR
VERSION:2.0
PRODID:-//hacksw/handcal//NONSGML v1.0//EN
CALSCALE:GREGORIAN
BEGIN:VTIMEZONE
TZID:Europe/Berlin
X-LIC-LOCATION:Europe/Berlin
BEGIN:DAYLIGHT
TZOFFSETFROM:+0100
TZOFFSETTO:+0200
TZNAME:CEST
DTSTART:19700329T020000
RRULE:FREQ=YEARLY;INTERVAL=1;BYDAY=-1SU;BYMONTH=3
END:DAYLIGHT
BEGIN:STANDARD
TZOFFSETFROM:+0200
TZOFFSETTO:+0100
TZNAME:CET
DTSTART:19701025T030000
RRULE:FREQ=YEARLY;INTERVAL=1;BYDAY=-1SU;BYMONTH=10
END:STANDARD
END:VTIMEZONE
BEGIN:VEVENT
DTSTART;TZID=Europe/Berlin:20221006T150000
DTEND;TZID=Europe/Berlin:20221006T180000
UID:69e7e28ea857f
DTSTAMP:20260421T204814Z
LOCATION:Deutsches Architekturmuseum\, DAM Ostend Henschelstraße 18 60314 
 Frankfurt am Main
DESCRIPTION:In der Fortbildung werden politische Bildung und Baukultur zusa
 mmengedacht: Lehrkräfte erfahren am Beispiel des Frankfurter Stadtraums\, 
 wie das Thema im Unterricht praxisnah behandelt werden kann.\n\nhttps://www
 .bpb.de/veranstaltungen/veranstaltungskalender/512670/demokratie-bauen/
URL;VALUE=URI:https://www.bpb.de/veranstaltungen/veranstaltungskalender/512
 670/demokratie-bauen/
SUMMARY:Demokratie bauen
END:VEVENT
END:VCALENDAR
