BEGIN:VCALENDAR
VERSION:2.0
PRODID:-//hacksw/handcal//NONSGML v1.0//EN
CALSCALE:GREGORIAN
BEGIN:VTIMEZONE
TZID:Europe/Berlin
X-LIC-LOCATION:Europe/Berlin
BEGIN:DAYLIGHT
TZOFFSETFROM:+0100
TZOFFSETTO:+0200
TZNAME:CEST
DTSTART:19700329T020000
RRULE:FREQ=YEARLY;INTERVAL=1;BYDAY=-1SU;BYMONTH=3
END:DAYLIGHT
BEGIN:STANDARD
TZOFFSETFROM:+0200
TZOFFSETTO:+0100
TZNAME:CET
DTSTART:19701025T030000
RRULE:FREQ=YEARLY;INTERVAL=1;BYDAY=-1SU;BYMONTH=10
END:STANDARD
END:VTIMEZONE
BEGIN:VEVENT
DTSTART;TZID=Europe/Berlin:20221005T153000
DTEND;TZID=Europe/Berlin:20221005T193000
UID:69e7e1e56a27e
DTSTAMP:20260421T204525Z
LOCATION:Bildungsstätte Anne Frank Hansaallee 150 60320 Frankfurt am Main
DESCRIPTION:Die Fortbildung sensibilisiert für unterschiedliche Formen von
  Rassismus und einen geeigneten Umgang mit dem Thema in der pädagogischen 
 Arbeit mit jungen Menschen.\n\nhttps://www.bpb.de/veranstaltungen/veranstal
 tungskalender/512674/alltagsrassismus-im-schulkontext-erkennen-und-handeln/
URL;VALUE=URI:https://www.bpb.de/veranstaltungen/veranstaltungskalender/512
 674/alltagsrassismus-im-schulkontext-erkennen-und-handeln/
SUMMARY:Alltagsrassismus im Schulkontext erkennen und handeln
END:VEVENT
END:VCALENDAR
