BEGIN:VCALENDAR
VERSION:2.0
PRODID:-//hacksw/handcal//NONSGML v1.0//EN
CALSCALE:GREGORIAN
BEGIN:VTIMEZONE
TZID:Europe/Berlin
X-LIC-LOCATION:Europe/Berlin
BEGIN:DAYLIGHT
TZOFFSETFROM:+0100
TZOFFSETTO:+0200
TZNAME:CEST
DTSTART:19700329T020000
RRULE:FREQ=YEARLY;INTERVAL=1;BYDAY=-1SU;BYMONTH=3
END:DAYLIGHT
BEGIN:STANDARD
TZOFFSETFROM:+0200
TZOFFSETTO:+0100
TZNAME:CET
DTSTART:19701025T030000
RRULE:FREQ=YEARLY;INTERVAL=1;BYDAY=-1SU;BYMONTH=10
END:STANDARD
END:VTIMEZONE
BEGIN:VEVENT
DTSTART;TZID=Europe/Berlin:20221203T190000
DTEND;TZID=Europe/Berlin:20221203T220000
UID:69e70157398f9
DTSTAMP:20260421T044719Z
LOCATION:Hiltropwall 15 44137 Dortmund
DESCRIPTION:Fast elf Jahre sind seit der Selbstenttarnung des NSU vergangen
 . Die "NSU-Monologe“ sind dokumentarisches Theater und richten den Blick 
 auf das Leid der Opfer\, denen Unrecht widerfahren ist.\n\nhttps://www.bpb.
 de/veranstaltungen/veranstaltungskalender/514708/auffuehrung-des-theaterstu
 ecks-nsu-monologe-mit-anschliessender-podiumsdiskussion/
URL;VALUE=URI:https://www.bpb.de/veranstaltungen/veranstaltungskalender/514
 708/auffuehrung-des-theaterstuecks-nsu-monologe-mit-anschliessender-podiums
 diskussion/
SUMMARY:Aufführung des Theaterstücks "NSU-Monologe" mit anschließender P
 odiumsdiskussion
END:VEVENT
END:VCALENDAR
