BEGIN:VCALENDAR
VERSION:2.0
PRODID:-//hacksw/handcal//NONSGML v1.0//EN
CALSCALE:GREGORIAN
BEGIN:VTIMEZONE
TZID:Europe/Berlin
X-LIC-LOCATION:Europe/Berlin
BEGIN:DAYLIGHT
TZOFFSETFROM:+0100
TZOFFSETTO:+0200
TZNAME:CEST
DTSTART:19700329T020000
RRULE:FREQ=YEARLY;INTERVAL=1;BYDAY=-1SU;BYMONTH=3
END:DAYLIGHT
BEGIN:STANDARD
TZOFFSETFROM:+0200
TZOFFSETTO:+0100
TZNAME:CET
DTSTART:19701025T030000
RRULE:FREQ=YEARLY;INTERVAL=1;BYDAY=-1SU;BYMONTH=10
END:STANDARD
END:VTIMEZONE
BEGIN:VEVENT
DTSTART;TZID=Europe/Berlin:20221130T110000
DTEND;TZID=Europe/Berlin:20221130T123000
UID:69e7e24bcb7fb
DTSTAMP:20260421T204707Z
LOCATION:
DESCRIPTION:Online-Werkstätten zu Bürgerbudgets und Jugendbeteiligung –
  Herbst 2022. Eine Veranstaltungsreihe für Fachkräfte der Jugendarbeit un
 d Beteiligungsinteressierte.\n\nhttps://www.bpb.de/veranstaltungen/veransta
 ltungskalender/515182/offene-jugendarbeit-im-laendlichen-raum/
URL;VALUE=URI:https://www.bpb.de/veranstaltungen/veranstaltungskalender/515
 182/offene-jugendarbeit-im-laendlichen-raum/
SUMMARY:Offene Jugendarbeit im ländlichen Raum
END:VEVENT
END:VCALENDAR
