BEGIN:VCALENDAR
VERSION:2.0
PRODID:-//hacksw/handcal//NONSGML v1.0//EN
CALSCALE:GREGORIAN
BEGIN:VTIMEZONE
TZID:Europe/Berlin
X-LIC-LOCATION:Europe/Berlin
BEGIN:DAYLIGHT
TZOFFSETFROM:+0100
TZOFFSETTO:+0200
TZNAME:CEST
DTSTART:19700329T020000
RRULE:FREQ=YEARLY;INTERVAL=1;BYDAY=-1SU;BYMONTH=3
END:DAYLIGHT
BEGIN:STANDARD
TZOFFSETFROM:+0200
TZOFFSETTO:+0100
TZNAME:CET
DTSTART:19701025T030000
RRULE:FREQ=YEARLY;INTERVAL=1;BYDAY=-1SU;BYMONTH=10
END:STANDARD
END:VTIMEZONE
BEGIN:VEVENT
DTSTART;TZID=Europe/Berlin:20221118T150000
DTEND;TZID=Europe/Berlin:20221118T180000
UID:69e9d9039105d
DTSTAMP:20260423T083203Z
LOCATION:Landgut Burg 1 // 71384 Weinstadt
DESCRIPTION:Auf ihrer Jubiläumstour durch Deutschland stoppt die bpb mit i
 hrem Info-Bus vor dem Landgut Burg in Beutelsbach/Weinstadt // Podium in Zu
 sammenarbeit mit der Landeszentrale für politische Bildung im historischen
  Seminarraum am 18.11. um 15 Uhr // kostenlose Teilnahme\n\nhttps://www.bpb
 .de/veranstaltungen/veranstaltungskalender/515303/was-ist-der-beutelsbacher
 -konsens-und-welche-bedeutung-hat-er-bis-heute/
URL;VALUE=URI:https://www.bpb.de/veranstaltungen/veranstaltungskalender/515
 303/was-ist-der-beutelsbacher-konsens-und-welche-bedeutung-hat-er-bis-heute
 /
SUMMARY:Was ist der Beutelsbacher Konsens und welche Bedeutung hat er bis h
 eute?
END:VEVENT
END:VCALENDAR
