BEGIN:VCALENDAR
VERSION:2.0
PRODID:-//hacksw/handcal//NONSGML v1.0//EN
CALSCALE:GREGORIAN
BEGIN:VTIMEZONE
TZID:Europe/Berlin
X-LIC-LOCATION:Europe/Berlin
BEGIN:DAYLIGHT
TZOFFSETFROM:+0100
TZOFFSETTO:+0200
TZNAME:CEST
DTSTART:19700329T020000
RRULE:FREQ=YEARLY;INTERVAL=1;BYDAY=-1SU;BYMONTH=3
END:DAYLIGHT
BEGIN:STANDARD
TZOFFSETFROM:+0200
TZOFFSETTO:+0100
TZNAME:CET
DTSTART:19701025T030000
RRULE:FREQ=YEARLY;INTERVAL=1;BYDAY=-1SU;BYMONTH=10
END:STANDARD
END:VTIMEZONE
BEGIN:VEVENT
DTSTART;TZID=Europe/Berlin:20231102T000000
DTEND;TZID=Europe/Berlin:20231104T000000
UID:69e75a9ee1ad9
DTSTAMP:20260421T110814Z
LOCATION:
DESCRIPTION:Vom 2.-4. November 2023 findet der 15. Bundeskongress Politisch
 e Bildung in Weimar statt. Hier finden Sie erste Informationen.\n\nhttps://
 www.bpb.de/veranstaltungen/veranstaltungskalender/515335/gegenwartsdeutunge
 n-zukunftserzaehlungen/
URL;VALUE=URI:https://www.bpb.de/veranstaltungen/veranstaltungskalender/515
 335/gegenwartsdeutungen-zukunftserzaehlungen/
SUMMARY:Gegenwartsdeutungen - Zukunftserzählungen
END:VEVENT
END:VCALENDAR
