BEGIN:VCALENDAR
VERSION:2.0
PRODID:-//hacksw/handcal//NONSGML v1.0//EN
CALSCALE:GREGORIAN
BEGIN:VTIMEZONE
TZID:Europe/Berlin
X-LIC-LOCATION:Europe/Berlin
BEGIN:DAYLIGHT
TZOFFSETFROM:+0100
TZOFFSETTO:+0200
TZNAME:CEST
DTSTART:19700329T020000
RRULE:FREQ=YEARLY;INTERVAL=1;BYDAY=-1SU;BYMONTH=3
END:DAYLIGHT
BEGIN:STANDARD
TZOFFSETFROM:+0200
TZOFFSETTO:+0100
TZNAME:CET
DTSTART:19701025T030000
RRULE:FREQ=YEARLY;INTERVAL=1;BYDAY=-1SU;BYMONTH=10
END:STANDARD
END:VTIMEZONE
BEGIN:VEVENT
DTSTART;TZID=Europe/Berlin:20221130T100000
DTEND;TZID=Europe/Berlin:20221130T140000
UID:69e7e24b51c03
DTSTAMP:20260421T204707Z
LOCATION:
DESCRIPTION:Der digitale Fachtag soll die Narrative und Motivationen\, die 
 in der Szene herrschen\, beleuchten und Möglichkeiten zum Umgang mit der G
 efahr durch eine radikalisierte Querdenkenbewegung aufzeigen. Ein Schwerpun
 kt soll hier auf das Handeln der Sicherheitsbehörden gelegt werden.\n\nhtt
 ps://www.bpb.de/veranstaltungen/veranstaltungskalender/515336/die-verschwoe
 rungsideologischen-szenen-und-der-russische-angriffskrieg/
URL;VALUE=URI:https://www.bpb.de/veranstaltungen/veranstaltungskalender/515
 336/die-verschwoerungsideologischen-szenen-und-der-russische-angriffskrieg/
SUMMARY:Die verschwörungsideologischen Szenen und der russische Angriffskr
 ieg
END:VEVENT
END:VCALENDAR
