BEGIN:VCALENDAR
VERSION:2.0
PRODID:-//hacksw/handcal//NONSGML v1.0//EN
CALSCALE:GREGORIAN
BEGIN:VTIMEZONE
TZID:Europe/Berlin
X-LIC-LOCATION:Europe/Berlin
BEGIN:DAYLIGHT
TZOFFSETFROM:+0100
TZOFFSETTO:+0200
TZNAME:CEST
DTSTART:19700329T020000
RRULE:FREQ=YEARLY;INTERVAL=1;BYDAY=-1SU;BYMONTH=3
END:DAYLIGHT
BEGIN:STANDARD
TZOFFSETFROM:+0200
TZOFFSETTO:+0100
TZNAME:CET
DTSTART:19701025T030000
RRULE:FREQ=YEARLY;INTERVAL=1;BYDAY=-1SU;BYMONTH=10
END:STANDARD
END:VTIMEZONE
BEGIN:VEVENT
DTSTART;TZID=Europe/Berlin:20230908T180000
DTEND;TZID=Europe/Berlin:20230909T220000
UID:69e5bc38e2a01
DTSTAMP:20260420T054008Z
LOCATION:Museum Ludwig KÃ¶ln  Heinrich-BÃ¶ll-Platz 50667 KÃ¶ln
DESCRIPTION:Expert:innen aus der Ukraine beleuchten die Entwicklung der mod
 ernen Kunst in der Ukraine und sprechen Ã¼ber aktuelle Herausforderungen fÃ
 ¼r KÃ¼nstler:innen in Zeiten des Krieges.\n\nhttps://www.bpb.de/veranstaltu
 ngen/veranstaltungskalender/539540/echo-der-ukrainischen-moderne/
URL;VALUE=URI:https://www.bpb.de/veranstaltungen/veranstaltungskalender/539
 540/echo-der-ukrainischen-moderne/
SUMMARY:Echo der ukrainischen Moderne
END:VEVENT
END:VCALENDAR
