BEGIN:VCALENDAR
VERSION:2.0
PRODID:-//hacksw/handcal//NONSGML v1.0//EN
CALSCALE:GREGORIAN
BEGIN:VTIMEZONE
TZID:Europe/Berlin
X-LIC-LOCATION:Europe/Berlin
BEGIN:DAYLIGHT
TZOFFSETFROM:+0100
TZOFFSETTO:+0200
TZNAME:CEST
DTSTART:19700329T020000
RRULE:FREQ=YEARLY;INTERVAL=1;BYDAY=-1SU;BYMONTH=3
END:DAYLIGHT
BEGIN:STANDARD
TZOFFSETFROM:+0200
TZOFFSETTO:+0100
TZNAME:CET
DTSTART:19701025T030000
RRULE:FREQ=YEARLY;INTERVAL=1;BYDAY=-1SU;BYMONTH=10
END:STANDARD
END:VTIMEZONE
BEGIN:VEVENT
DTSTART;TZID=Europe/Berlin:20231204T090000
DTEND;TZID=Europe/Berlin:20231204T150000
UID:69eb02e627688
DTSTAMP:20260424T054302Z
LOCATION:
DESCRIPTION:Dieser interaktiv angelegte Workshop stellt ein speziell für S
 chüler/-innen der Grundschule entwickeltes Planspiel zur EU-Bildung vor.\n
 \nhttps://www.bpb.de/veranstaltungen/veranstaltungskalender/541748/die-euro
 paeische-union-spielerisch-vermitteln/
URL;VALUE=URI:https://www.bpb.de/veranstaltungen/veranstaltungskalender/541
 748/die-europaeische-union-spielerisch-vermitteln/
SUMMARY:Die Europäische Union spielerisch vermitteln!
END:VEVENT
END:VCALENDAR
