BEGIN:VCALENDAR
VERSION:2.0
PRODID:-//hacksw/handcal//NONSGML v1.0//EN
CALSCALE:GREGORIAN
BEGIN:VTIMEZONE
TZID:Europe/Berlin
X-LIC-LOCATION:Europe/Berlin
BEGIN:DAYLIGHT
TZOFFSETFROM:+0100
TZOFFSETTO:+0200
TZNAME:CEST
DTSTART:19700329T020000
RRULE:FREQ=YEARLY;INTERVAL=1;BYDAY=-1SU;BYMONTH=3
END:DAYLIGHT
BEGIN:STANDARD
TZOFFSETFROM:+0200
TZOFFSETTO:+0100
TZNAME:CET
DTSTART:19701025T030000
RRULE:FREQ=YEARLY;INTERVAL=1;BYDAY=-1SU;BYMONTH=10
END:STANDARD
END:VTIMEZONE
BEGIN:VEVENT
DTSTART;TZID=Europe/Berlin:20231121T200000
DTEND;TZID=Europe/Berlin:20231121T213000
UID:69e5df33c2832
DTSTAMP:20260420T080923Z
LOCATION:Museum für Naturkunde Sauriersaal Invalidenstr. 43 10115 Berlin
DESCRIPTION:Daniel Miller spricht am 21. November 2023 darüber\, welche so
 zialen Wirkungen digitale Medien entfalten.\n\nhttps://www.bpb.de/veranstal
 tungen/veranstaltungskalender/542444/die-globale-evolution-smarter-technolo
 gien/
URL;VALUE=URI:https://www.bpb.de/veranstaltungen/veranstaltungskalender/542
 444/die-globale-evolution-smarter-technologien/
SUMMARY:Die globale Evolution smarter Technologien
END:VEVENT
END:VCALENDAR
