BEGIN:VCALENDAR
VERSION:2.0
PRODID:-//hacksw/handcal//NONSGML v1.0//EN
CALSCALE:GREGORIAN
BEGIN:VTIMEZONE
TZID:Europe/Berlin
X-LIC-LOCATION:Europe/Berlin
BEGIN:DAYLIGHT
TZOFFSETFROM:+0100
TZOFFSETTO:+0200
TZNAME:CEST
DTSTART:19700329T020000
RRULE:FREQ=YEARLY;INTERVAL=1;BYDAY=-1SU;BYMONTH=3
END:DAYLIGHT
BEGIN:STANDARD
TZOFFSETFROM:+0200
TZOFFSETTO:+0100
TZNAME:CET
DTSTART:19701025T030000
RRULE:FREQ=YEARLY;INTERVAL=1;BYDAY=-1SU;BYMONTH=10
END:STANDARD
END:VTIMEZONE
BEGIN:VEVENT
DTSTART;TZID=Europe/Berlin:20240118T183000
DTEND;TZID=Europe/Berlin:20240118T200000
UID:69ed6bf67ea8e
DTSTAMP:20260426T013550Z
LOCATION:Bundeszentrale für politische Bildung Veranstaltungssaal im 4. OG
  Friedrichstr. 50 10117 Berlin
DESCRIPTION:Expert:innen analysieren die politischen und gesellschaftlichen
  Reaktionen auf den Krieg im Nahen Osten in den Ländern Mittel- und Osteur
 opas.\n\nhttps://www.bpb.de/veranstaltungen/veranstaltungskalender/544117/s
 olidaritaet-kritik-propaganda-wie-blickt-osteuropa-auf-den-nahostkonflikt/
URL;VALUE=URI:https://www.bpb.de/veranstaltungen/veranstaltungskalender/544
 117/solidaritaet-kritik-propaganda-wie-blickt-osteuropa-auf-den-nahostkonfl
 ikt/
SUMMARY:Solidarität\, Kritik\, Propaganda: Wie blickt Osteuropa auf den Na
 hostkonflikt?
END:VEVENT
END:VCALENDAR
