BEGIN:VCALENDAR
VERSION:2.0
PRODID:-//hacksw/handcal//NONSGML v1.0//EN
CALSCALE:GREGORIAN
BEGIN:VTIMEZONE
TZID:Europe/Berlin
X-LIC-LOCATION:Europe/Berlin
BEGIN:DAYLIGHT
TZOFFSETFROM:+0100
TZOFFSETTO:+0200
TZNAME:CEST
DTSTART:19700329T020000
RRULE:FREQ=YEARLY;INTERVAL=1;BYDAY=-1SU;BYMONTH=3
END:DAYLIGHT
BEGIN:STANDARD
TZOFFSETFROM:+0200
TZOFFSETTO:+0100
TZNAME:CET
DTSTART:19701025T030000
RRULE:FREQ=YEARLY;INTERVAL=1;BYDAY=-1SU;BYMONTH=10
END:STANDARD
END:VTIMEZONE
BEGIN:VEVENT
DTSTART;TZID=Europe/Berlin:20240416T193000
DTEND;TZID=Europe/Berlin:20240416T220000
UID:69e4c61a0a912
DTSTAMP:20260419T121002Z
LOCATION:Online – über die Plattform edudip
DESCRIPTION:Die Teilnehmenden lernen digitale Spiele kennen und können mit
  erfahrenen Medienpädagog*innen in einen Austausch über pädagogische Fra
 gen rund um digitale Spiele treten.\n\nhttps://www.bpb.de/veranstaltungen/v
 eranstaltungskalender/546143/digitale-eltern-lan-am-16-04-2024-roblox/
URL;VALUE=URI:https://www.bpb.de/veranstaltungen/veranstaltungskalender/546
 143/digitale-eltern-lan-am-16-04-2024-roblox/
SUMMARY:Digitale Eltern-LAN am 16.04.2024 - Roblox
END:VEVENT
END:VCALENDAR
