BEGIN:VCALENDAR
VERSION:2.0
PRODID:-//hacksw/handcal//NONSGML v1.0//EN
CALSCALE:GREGORIAN
BEGIN:VTIMEZONE
TZID:Europe/Berlin
X-LIC-LOCATION:Europe/Berlin
BEGIN:DAYLIGHT
TZOFFSETFROM:+0100
TZOFFSETTO:+0200
TZNAME:CEST
DTSTART:19700329T020000
RRULE:FREQ=YEARLY;INTERVAL=1;BYDAY=-1SU;BYMONTH=3
END:DAYLIGHT
BEGIN:STANDARD
TZOFFSETFROM:+0200
TZOFFSETTO:+0100
TZNAME:CET
DTSTART:19701025T030000
RRULE:FREQ=YEARLY;INTERVAL=1;BYDAY=-1SU;BYMONTH=10
END:STANDARD
END:VTIMEZONE
BEGIN:VEVENT
DTSTART;TZID=Europe/Berlin:20240506T100000
DTEND;TZID=Europe/Berlin:20240506T170000
UID:69ecba7bcbb40
DTSTAMP:20260425T125835Z
LOCATION:Deutsches Sport & Olympia Museum Im Zollhafen 1 50678 Köln
DESCRIPTION:Kurz vor der Fußball-Europameisterschaft der Herren nimmt die 
 Fachtagung gemeinsam mit zahlreichen Expertinnen und Experten das Spannungs
 verhältnis zwischen Sport und Demokratie in den Blick.\n\nhttps://www.bpb.
 de/veranstaltungen/veranstaltungskalender/546474/sport-und-demokratie/
URL;VALUE=URI:https://www.bpb.de/veranstaltungen/veranstaltungskalender/546
 474/sport-und-demokratie/
SUMMARY:Sport und Demokratie
END:VEVENT
END:VCALENDAR
