BEGIN:VCALENDAR
VERSION:2.0
PRODID:-//hacksw/handcal//NONSGML v1.0//EN
CALSCALE:GREGORIAN
BEGIN:VTIMEZONE
TZID:Europe/Berlin
X-LIC-LOCATION:Europe/Berlin
BEGIN:DAYLIGHT
TZOFFSETFROM:+0100
TZOFFSETTO:+0200
TZNAME:CEST
DTSTART:19700329T020000
RRULE:FREQ=YEARLY;INTERVAL=1;BYDAY=-1SU;BYMONTH=3
END:DAYLIGHT
BEGIN:STANDARD
TZOFFSETFROM:+0200
TZOFFSETTO:+0100
TZNAME:CET
DTSTART:19701025T030000
RRULE:FREQ=YEARLY;INTERVAL=1;BYDAY=-1SU;BYMONTH=10
END:STANDARD
END:VTIMEZONE
BEGIN:VEVENT
DTSTART;TZID=Europe/Berlin:20240905T140000
DTEND;TZID=Europe/Berlin:20240905T170000
UID:69e584a3f0f58
DTSTAMP:20260420T014259Z
LOCATION:
DESCRIPTION:In diesem interaktiven Workshop wird diskutiert und erprobt\, w
 ie wirtschaftliche und finanzielle Fragen im Kontext politischer Bildung zu
 m Thema werden können.\n\nhttps://www.bpb.de/veranstaltungen/reihen/547419
 /freiheit-und-fessel-ambivalenzen-des-geldes-und-was-dies-mit-politischer-b
 ildung-zu-tun-hat/
URL;VALUE=URI:https://www.bpb.de/veranstaltungen/reihen/547419/freiheit-und
 -fessel-ambivalenzen-des-geldes-und-was-dies-mit-politischer-bildung-zu-tun
 -hat/
SUMMARY:Freiheit und Fessel – Ambivalenzen des Geldes und was dies mit po
 litischer Bildung zu tun hat
END:VEVENT
END:VCALENDAR
