BEGIN:VCALENDAR
VERSION:2.0
PRODID:-//hacksw/handcal//NONSGML v1.0//EN
CALSCALE:GREGORIAN
BEGIN:VTIMEZONE
TZID:Europe/Berlin
X-LIC-LOCATION:Europe/Berlin
BEGIN:DAYLIGHT
TZOFFSETFROM:+0100
TZOFFSETTO:+0200
TZNAME:CEST
DTSTART:19700329T020000
RRULE:FREQ=YEARLY;INTERVAL=1;BYDAY=-1SU;BYMONTH=3
END:DAYLIGHT
BEGIN:STANDARD
TZOFFSETFROM:+0200
TZOFFSETTO:+0100
TZNAME:CET
DTSTART:19701025T030000
RRULE:FREQ=YEARLY;INTERVAL=1;BYDAY=-1SU;BYMONTH=10
END:STANDARD
END:VTIMEZONE
BEGIN:VEVENT
DTSTART;TZID=Europe/Berlin:20240514T180000
DTEND;TZID=Europe/Berlin:20240514T200000
UID:69e57eeac1b44
DTSTAMP:20260420T011834Z
LOCATION:Zoom
DESCRIPTION:This lecture is a critical contribution to ongoing debates abou
 t the role of AI in society and provides a framework to understand how tech
 nological developments reflect and reinforce existing colonial structures.\
 n\nhttps://www.bpb.de/veranstaltungen/veranstaltungskalender/547888/decolon
 ial-ai/
URL;VALUE=URI:https://www.bpb.de/veranstaltungen/veranstaltungskalender/547
 888/decolonial-ai/
SUMMARY:Decolonial AI
END:VEVENT
END:VCALENDAR
