BEGIN:VCALENDAR
VERSION:2.0
PRODID:-//hacksw/handcal//NONSGML v1.0//EN
CALSCALE:GREGORIAN
BEGIN:VTIMEZONE
TZID:Europe/Berlin
X-LIC-LOCATION:Europe/Berlin
BEGIN:DAYLIGHT
TZOFFSETFROM:+0100
TZOFFSETTO:+0200
TZNAME:CEST
DTSTART:19700329T020000
RRULE:FREQ=YEARLY;INTERVAL=1;BYDAY=-1SU;BYMONTH=3
END:DAYLIGHT
BEGIN:STANDARD
TZOFFSETFROM:+0200
TZOFFSETTO:+0100
TZNAME:CET
DTSTART:19701025T030000
RRULE:FREQ=YEARLY;INTERVAL=1;BYDAY=-1SU;BYMONTH=10
END:STANDARD
END:VTIMEZONE
BEGIN:VEVENT
DTSTART;TZID=Europe/Berlin:20240924T140000
DTEND;TZID=Europe/Berlin:20240926T123000
UID:69e7885710e58
DTSTAMP:20260421T142319Z
LOCATION:Externer Link: bUm – Raum für solidarisches Miteinander  Paul-L
 incke-Ufer 21 10999 Berlin
DESCRIPTION:Vom 24.-26. September 2024 bietet die Tagung Raum für Austausc
 h\, Projektentwicklung und Diskussionen über politische Bildung im digital
 en Raum.\n\nhttps://www.bpb.de/veranstaltungen/veranstaltungskalender/54831
 0/stitching-democracy/
URL;VALUE=URI:https://www.bpb.de/veranstaltungen/veranstaltungskalender/548
 310/stitching-democracy/
SUMMARY:Stitching Democracy
END:VEVENT
END:VCALENDAR
