BEGIN:VCALENDAR
VERSION:2.0
PRODID:-//hacksw/handcal//NONSGML v1.0//EN
CALSCALE:GREGORIAN
BEGIN:VTIMEZONE
TZID:Europe/Berlin
X-LIC-LOCATION:Europe/Berlin
BEGIN:DAYLIGHT
TZOFFSETFROM:+0100
TZOFFSETTO:+0200
TZNAME:CEST
DTSTART:19700329T020000
RRULE:FREQ=YEARLY;INTERVAL=1;BYDAY=-1SU;BYMONTH=3
END:DAYLIGHT
BEGIN:STANDARD
TZOFFSETFROM:+0200
TZOFFSETTO:+0100
TZNAME:CET
DTSTART:19701025T030000
RRULE:FREQ=YEARLY;INTERVAL=1;BYDAY=-1SU;BYMONTH=10
END:STANDARD
END:VTIMEZONE
BEGIN:VEVENT
DTSTART;TZID=Europe/Berlin:20240604T180000
DTEND;TZID=Europe/Berlin:20240604T200000
UID:69e5841695fbd
DTSTAMP:20260420T014038Z
LOCATION:Neues Medienzentrum der bpb Bundeskanzlerplatz 2E 53113 Bonn
DESCRIPTION:The Bonn Center for Dependency and Slavery Studies hosts a roun
 dtable with two of the most outstanding  scholars in the world history of s
 lavery and dependency and comparative history.\n\nhttps://www.bpb.de/verans
 taltungen/veranstaltungskalender/549094/buchdiskussion-welten-der-sklaverei
 -eine-vergleichende-geschichte/
URL;VALUE=URI:https://www.bpb.de/veranstaltungen/veranstaltungskalender/549
 094/buchdiskussion-welten-der-sklaverei-eine-vergleichende-geschichte/
SUMMARY:Buchdiskussion: „Welten der Sklaverei. Eine Vergleichende Geschic
 hte“
END:VEVENT
END:VCALENDAR
