BEGIN:VCALENDAR
VERSION:2.0
PRODID:-//hacksw/handcal//NONSGML v1.0//EN
CALSCALE:GREGORIAN
BEGIN:VTIMEZONE
TZID:Europe/Berlin
X-LIC-LOCATION:Europe/Berlin
BEGIN:DAYLIGHT
TZOFFSETFROM:+0100
TZOFFSETTO:+0200
TZNAME:CEST
DTSTART:19700329T020000
RRULE:FREQ=YEARLY;INTERVAL=1;BYDAY=-1SU;BYMONTH=3
END:DAYLIGHT
BEGIN:STANDARD
TZOFFSETFROM:+0200
TZOFFSETTO:+0100
TZNAME:CET
DTSTART:19701025T030000
RRULE:FREQ=YEARLY;INTERVAL=1;BYDAY=-1SU;BYMONTH=10
END:STANDARD
END:VTIMEZONE
BEGIN:VEVENT
DTSTART;TZID=Europe/Berlin:20241112T180000
DTEND;TZID=Europe/Berlin:20241112T193000
UID:69ecc5fc1d24f
DTSTAMP:20260425T134740Z
LOCATION:
DESCRIPTION:Petra Molnar untersucht die Auswirkungen von KI auf Migration u
 nd Menschenrechte und beleuchtet die technologischen Herausforderungen an d
 en Grenzen.\n\nhttps://www.bpb.de/veranstaltungen/veranstaltungskalender/55
 1408/automatisierte-grenzen-die-auswirkungen-von-ki-auf-migration/
URL;VALUE=URI:https://www.bpb.de/veranstaltungen/veranstaltungskalender/551
 408/automatisierte-grenzen-die-auswirkungen-von-ki-auf-migration/
SUMMARY:Automatisierte Grenzen: Die Auswirkungen von KI auf Migration
END:VEVENT
END:VCALENDAR
