BEGIN:VCALENDAR
VERSION:2.0
PRODID:-//hacksw/handcal//NONSGML v1.0//EN
CALSCALE:GREGORIAN
BEGIN:VTIMEZONE
TZID:Europe/Berlin
X-LIC-LOCATION:Europe/Berlin
BEGIN:DAYLIGHT
TZOFFSETFROM:+0100
TZOFFSETTO:+0200
TZNAME:CEST
DTSTART:19700329T020000
RRULE:FREQ=YEARLY;INTERVAL=1;BYDAY=-1SU;BYMONTH=3
END:DAYLIGHT
BEGIN:STANDARD
TZOFFSETFROM:+0200
TZOFFSETTO:+0100
TZNAME:CET
DTSTART:19701025T030000
RRULE:FREQ=YEARLY;INTERVAL=1;BYDAY=-1SU;BYMONTH=10
END:STANDARD
END:VTIMEZONE
BEGIN:VEVENT
DTSTART;TZID=Europe/Berlin:20241012T150000
DTEND;TZID=Europe/Berlin:20241012T000000
UID:69e57eeb368cd
DTSTAMP:20260420T011835Z
LOCATION:Akademie der Künste Hanseatenweg 10 10557 Berlin
DESCRIPTION:Die Veranstaltung „Der Preis der Freiheit. Stimmen der ungari
 schen Kunstszene“ setzt ein Zeichen der Solidarität mit ungarischen Kuns
 t- und Kulturschaffenden\, die unter dem Einfluss der Regierung Orbán seit
  2010 erleben\, dass die künstlerische Freiheit in ihrem Land immer mehr b
 edroht wird.\n\nhttps://www.bpb.de/veranstaltungen/veranstaltungskalender/5
 52606/der-preis-der-freiheit/
URL;VALUE=URI:https://www.bpb.de/veranstaltungen/veranstaltungskalender/552
 606/der-preis-der-freiheit/
SUMMARY:Der Preis der Freiheit.
END:VEVENT
END:VCALENDAR
