BEGIN:VCALENDAR
VERSION:2.0
PRODID:-//hacksw/handcal//NONSGML v1.0//EN
CALSCALE:GREGORIAN
BEGIN:VTIMEZONE
TZID:Europe/Berlin
X-LIC-LOCATION:Europe/Berlin
BEGIN:DAYLIGHT
TZOFFSETFROM:+0100
TZOFFSETTO:+0200
TZNAME:CEST
DTSTART:19700329T020000
RRULE:FREQ=YEARLY;INTERVAL=1;BYDAY=-1SU;BYMONTH=3
END:DAYLIGHT
BEGIN:STANDARD
TZOFFSETFROM:+0200
TZOFFSETTO:+0100
TZNAME:CET
DTSTART:19701025T030000
RRULE:FREQ=YEARLY;INTERVAL=1;BYDAY=-1SU;BYMONTH=10
END:STANDARD
END:VTIMEZONE
BEGIN:VEVENT
DTSTART;TZID=Europe/Berlin:20241114T200000
DTEND;TZID=Europe/Berlin:20241114T213000
UID:69e8baf1a475d
DTSTAMP:20260422T121129Z
LOCATION:Häselburg Gera Altes Wannenbad Florian-Geyer-Str. 15-17/Burgstr. 
 12 07545 Gera
DESCRIPTION:Tanzbare Indie-\, Elektronik- und Folk-Musik aus Belarus - am 1
 4. November 2024 in der Häselburg / Gera mit Ksienija und Artsiom Lukjanie
 nka und ihrer NaviBand!\n\nhttps://www.bpb.de/veranstaltungen/veranstaltung
 skalender/552862/tiny-concerts-and-talks/
URL;VALUE=URI:https://www.bpb.de/veranstaltungen/veranstaltungskalender/552
 862/tiny-concerts-and-talks/
SUMMARY:TINY CONCERTS AND TALKS
END:VEVENT
END:VCALENDAR
