BEGIN:VCALENDAR
VERSION:2.0
PRODID:-//hacksw/handcal//NONSGML v1.0//EN
CALSCALE:GREGORIAN
BEGIN:VTIMEZONE
TZID:Europe/Berlin
X-LIC-LOCATION:Europe/Berlin
BEGIN:DAYLIGHT
TZOFFSETFROM:+0100
TZOFFSETTO:+0200
TZNAME:CEST
DTSTART:19700329T020000
RRULE:FREQ=YEARLY;INTERVAL=1;BYDAY=-1SU;BYMONTH=3
END:DAYLIGHT
BEGIN:STANDARD
TZOFFSETFROM:+0200
TZOFFSETTO:+0100
TZNAME:CET
DTSTART:19701025T030000
RRULE:FREQ=YEARLY;INTERVAL=1;BYDAY=-1SU;BYMONTH=10
END:STANDARD
END:VTIMEZONE
BEGIN:VEVENT
DTSTART;TZID=Europe/Berlin:20241109T113000
DTEND;TZID=Europe/Berlin:20241109T130000
UID:69e5463d2923b
DTSTAMP:20260419T211645Z
LOCATION:Metropol Kino Leipziger Straße 24 07545 Gera
DESCRIPTION:Der Film von Kira Muratova\, als dissidentisch\, konterrevoluti
 onär und antisowjetisch eingestuft und für 16 Jahre verboten\, wurde schl
 ießlich mit großem internationalem Erfolg neu aufgelegt.\n\nhttps://www.b
 pb.de/veranstaltungen/reihen/555898/der-lange-abschied/
URL;VALUE=URI:https://www.bpb.de/veranstaltungen/reihen/555898/der-lange-ab
 schied/
SUMMARY:Der lange Abschied
END:VEVENT
END:VCALENDAR
