BEGIN:VCALENDAR
VERSION:2.0
PRODID:-//hacksw/handcal//NONSGML v1.0//EN
CALSCALE:GREGORIAN
BEGIN:VTIMEZONE
TZID:Europe/Berlin
X-LIC-LOCATION:Europe/Berlin
BEGIN:DAYLIGHT
TZOFFSETFROM:+0100
TZOFFSETTO:+0200
TZNAME:CEST
DTSTART:19700329T020000
RRULE:FREQ=YEARLY;INTERVAL=1;BYDAY=-1SU;BYMONTH=3
END:DAYLIGHT
BEGIN:STANDARD
TZOFFSETFROM:+0200
TZOFFSETTO:+0100
TZNAME:CET
DTSTART:19701025T030000
RRULE:FREQ=YEARLY;INTERVAL=1;BYDAY=-1SU;BYMONTH=10
END:STANDARD
END:VTIMEZONE
BEGIN:VEVENT
DTSTART;TZID=Europe/Berlin:20241206T100000
DTEND;TZID=Europe/Berlin:20241206T200000
UID:69ea54525ab5a
DTSTAMP:20260423T171810Z
LOCATION:Humboldt-Universität zu Berlin Senatssaal – Hauptgebäude Unter
  den Linden 6\, Berlin
DESCRIPTION:Eine Tagung über positive Erfahrungen von Solidarität\, Freun
 dschaft und gemeinsamen Errungenschaften aus verschiedenen geographischen u
 nd zeitlichen Konfliktzonen in Südosteuropa.\n\nhttps://www.bpb.de/veranst
 altungen/veranstaltungskalender/556412/mapping-memories-of-good-will/
URL;VALUE=URI:https://www.bpb.de/veranstaltungen/veranstaltungskalender/556
 412/mapping-memories-of-good-will/
SUMMARY:MAPPING Memories of Good Will
END:VEVENT
END:VCALENDAR
