BEGIN:VCALENDAR
VERSION:2.0
PRODID:-//hacksw/handcal//NONSGML v1.0//EN
CALSCALE:GREGORIAN
BEGIN:VTIMEZONE
TZID:Europe/Berlin
X-LIC-LOCATION:Europe/Berlin
BEGIN:DAYLIGHT
TZOFFSETFROM:+0100
TZOFFSETTO:+0200
TZNAME:CEST
DTSTART:19700329T020000
RRULE:FREQ=YEARLY;INTERVAL=1;BYDAY=-1SU;BYMONTH=3
END:DAYLIGHT
BEGIN:STANDARD
TZOFFSETFROM:+0200
TZOFFSETTO:+0100
TZNAME:CET
DTSTART:19701025T030000
RRULE:FREQ=YEARLY;INTERVAL=1;BYDAY=-1SU;BYMONTH=10
END:STANDARD
END:VTIMEZONE
BEGIN:VEVENT
DTSTART;TZID=Europe/Berlin:20250120T180000
DTEND;TZID=Europe/Berlin:20250120T200000
UID:69e598afec33a
DTSTAMP:20260420T030831Z
LOCATION:Humboldt-Universität zu Berlin Senatssaal Unter den Linden 6 1011
 7 Berlin
DESCRIPTION:Eine Veranstaltungsreihe des „Netzwerk Zeitgeschichte“ mit 
 Unterstützung der Bundeszentrale für politische Bildung\n\nhttps://www.bp
 b.de/veranstaltungen/veranstaltungskalender/557072/staat-und-geschichtsunte
 rricht/
URL;VALUE=URI:https://www.bpb.de/veranstaltungen/veranstaltungskalender/557
 072/staat-und-geschichtsunterricht/
SUMMARY:Staat und Geschichtsunterricht
END:VEVENT
END:VCALENDAR
