BEGIN:VCALENDAR
VERSION:2.0
PRODID:-//hacksw/handcal//NONSGML v1.0//EN
CALSCALE:GREGORIAN
BEGIN:VTIMEZONE
TZID:Europe/Berlin
X-LIC-LOCATION:Europe/Berlin
BEGIN:DAYLIGHT
TZOFFSETFROM:+0100
TZOFFSETTO:+0200
TZNAME:CEST
DTSTART:19700329T020000
RRULE:FREQ=YEARLY;INTERVAL=1;BYDAY=-1SU;BYMONTH=3
END:DAYLIGHT
BEGIN:STANDARD
TZOFFSETFROM:+0200
TZOFFSETTO:+0100
TZNAME:CET
DTSTART:19701025T030000
RRULE:FREQ=YEARLY;INTERVAL=1;BYDAY=-1SU;BYMONTH=10
END:STANDARD
END:VTIMEZONE
BEGIN:VEVENT
DTSTART;TZID=Europe/Berlin:20250211T180000
DTEND;TZID=Europe/Berlin:20250211T193000
UID:69e8f1499a597
DTSTAMP:20260422T160321Z
LOCATION:Online / Zoom
DESCRIPTION:Welche Positionen zur Schuldenbremse werden derzeit vertreten\,
  wie sind diese begründet und welche Konsequenzen folgen daraus? Diesen Fr
 agen widmet sich diese digitale Diskussionsveranstaltung.\n\nhttps://www.bp
 b.de/veranstaltungen/reihen/558392/schuldenbremse-ja-nein-oder-vielleicht/
URL;VALUE=URI:https://www.bpb.de/veranstaltungen/reihen/558392/schuldenbrem
 se-ja-nein-oder-vielleicht/
SUMMARY:Schuldenbremse  – ja\, nein oder vielleicht?
END:VEVENT
END:VCALENDAR
