BEGIN:VCALENDAR
VERSION:2.0
PRODID:-//hacksw/handcal//NONSGML v1.0//EN
CALSCALE:GREGORIAN
BEGIN:VTIMEZONE
TZID:Europe/Berlin
X-LIC-LOCATION:Europe/Berlin
BEGIN:DAYLIGHT
TZOFFSETFROM:+0100
TZOFFSETTO:+0200
TZNAME:CEST
DTSTART:19700329T020000
RRULE:FREQ=YEARLY;INTERVAL=1;BYDAY=-1SU;BYMONTH=3
END:DAYLIGHT
BEGIN:STANDARD
TZOFFSETFROM:+0200
TZOFFSETTO:+0100
TZNAME:CET
DTSTART:19701025T030000
RRULE:FREQ=YEARLY;INTERVAL=1;BYDAY=-1SU;BYMONTH=10
END:STANDARD
END:VTIMEZONE
BEGIN:VEVENT
DTSTART;TZID=Europe/Berlin:20250910T130000
DTEND;TZID=Europe/Berlin:20250912T133000
UID:69e9d3553a37c
DTSTAMP:20260423T080749Z
LOCATION:Weserbergland-Zentrum Rathausplatz 7 31785 Hameln
DESCRIPTION:Die Bundesweiten Gedenkstättenseminare richten sich an Akteuri
 nnen und Akteure aus dem Bereich der Gedenkstättenarbeit und dienen ihrer 
 Vernetzung\, der Stärkung von Gedenkstätten und Dokumentationszentren als
  historisch-politische und außerschulische Lernorte sowie der Entwicklung 
 der dortigen Bildungsarbeit.\n\nhttps://www.bpb.de/veranstaltungen/veransta
 ltungskalender/561232/save-the-date-69-bundesweites-gedenkstaettenseminar-2
 025/
URL;VALUE=URI:https://www.bpb.de/veranstaltungen/veranstaltungskalender/561
 232/save-the-date-69-bundesweites-gedenkstaettenseminar-2025/
SUMMARY:Save the Date: 69. Bundesweites Gedenkstättenseminar 2025
END:VEVENT
END:VCALENDAR
