BEGIN:VCALENDAR
VERSION:2.0
PRODID:-//hacksw/handcal//NONSGML v1.0//EN
CALSCALE:GREGORIAN
BEGIN:VTIMEZONE
TZID:Europe/Berlin
X-LIC-LOCATION:Europe/Berlin
BEGIN:DAYLIGHT
TZOFFSETFROM:+0100
TZOFFSETTO:+0200
TZNAME:CEST
DTSTART:19700329T020000
RRULE:FREQ=YEARLY;INTERVAL=1;BYDAY=-1SU;BYMONTH=3
END:DAYLIGHT
BEGIN:STANDARD
TZOFFSETFROM:+0200
TZOFFSETTO:+0100
TZNAME:CET
DTSTART:19701025T030000
RRULE:FREQ=YEARLY;INTERVAL=1;BYDAY=-1SU;BYMONTH=10
END:STANDARD
END:VTIMEZONE
BEGIN:VEVENT
DTSTART;TZID=Europe/Berlin:20250513T170000
DTEND;TZID=Europe/Berlin:20250513T190000
UID:69e4e7559de69
DTSTAMP:20260419T143149Z
LOCATION:HÃ¶rsaal 12 der UniversitÃ¤t Leipzig (HÃ¶rsaalgebÃ¤ude) UniversitÃ
 ¤tsstraÃŸe 3\, 2. OG 04109 Leipzig
DESCRIPTION:In ihrem Vortrag beleuchtet Prof. Dr. Nina Noeske zentrale Figu
 ren des DDR-Musiklebens und ihre kompositorischen Strategien zwischen utopi
 schem Fortschrittsglauben und postmodernen AnsÃ¤tzen.\n\nhttps://www.bpb.de
 /veranstaltungen/veranstaltungskalender/561645/prof-dr-nina-noeske-komponie
 ren-in-der-ddr-seit-1970-zwischen-fortschrittsglauben-und-postmoderne/
URL;VALUE=URI:https://www.bpb.de/veranstaltungen/veranstaltungskalender/561
 645/prof-dr-nina-noeske-komponieren-in-der-ddr-seit-1970-zwischen-fortschri
 ttsglauben-und-postmoderne/
SUMMARY:Prof. Dr. Nina Noeske: Komponieren in der DDR seit 1970 â€“ zwische
 n Fortschrittsglauben und Postmoderne
END:VEVENT
END:VCALENDAR
