BEGIN:VCALENDAR
VERSION:2.0
PRODID:-//hacksw/handcal//NONSGML v1.0//EN
CALSCALE:GREGORIAN
BEGIN:VTIMEZONE
TZID:Europe/Berlin
X-LIC-LOCATION:Europe/Berlin
BEGIN:DAYLIGHT
TZOFFSETFROM:+0100
TZOFFSETTO:+0200
TZNAME:CEST
DTSTART:19700329T020000
RRULE:FREQ=YEARLY;INTERVAL=1;BYDAY=-1SU;BYMONTH=3
END:DAYLIGHT
BEGIN:STANDARD
TZOFFSETFROM:+0200
TZOFFSETTO:+0100
TZNAME:CET
DTSTART:19701025T030000
RRULE:FREQ=YEARLY;INTERVAL=1;BYDAY=-1SU;BYMONTH=10
END:STANDARD
END:VTIMEZONE
BEGIN:VEVENT
DTSTART;TZID=Europe/Berlin:20240925T110000
DTEND;TZID=Europe/Berlin:20240925T120000
UID:69e53f683e22e
DTSTAMP:20260419T204736Z
LOCATION:
DESCRIPTION:Seit die erste Version von ChatGPT im November 2022 online ging
 \, gibt es kaum ein Thema\, das mit mehr Begeisterung und Sorge beobachtet 
 und diskutiert wird.\n\nhttps://www.bpb.de/veranstaltungen/reihen/ki-am-mit
 tag/569593/einfuehrung-ki-in-der-politischen-bildung/
URL;VALUE=URI:https://www.bpb.de/veranstaltungen/reihen/ki-am-mittag/569593
 /einfuehrung-ki-in-der-politischen-bildung/
SUMMARY:Einführung: KI in der politischen Bildung
END:VEVENT
END:VCALENDAR
