BEGIN:VCALENDAR
VERSION:2.0
PRODID:-//hacksw/handcal//NONSGML v1.0//EN
CALSCALE:GREGORIAN
BEGIN:VTIMEZONE
TZID:Europe/Berlin
X-LIC-LOCATION:Europe/Berlin
BEGIN:DAYLIGHT
TZOFFSETFROM:+0100
TZOFFSETTO:+0200
TZNAME:CEST
DTSTART:19700329T020000
RRULE:FREQ=YEARLY;INTERVAL=1;BYDAY=-1SU;BYMONTH=3
END:DAYLIGHT
BEGIN:STANDARD
TZOFFSETFROM:+0200
TZOFFSETTO:+0100
TZNAME:CET
DTSTART:19701025T030000
RRULE:FREQ=YEARLY;INTERVAL=1;BYDAY=-1SU;BYMONTH=10
END:STANDARD
END:VTIMEZONE
BEGIN:VEVENT
DTSTART;TZID=Europe/Berlin:20241113T130000
DTEND;TZID=Europe/Berlin:20241113T140000
UID:69e53f67d6692
DTSTAMP:20260419T204735Z
LOCATION:
DESCRIPTION:Hat KI die US-Wahl entschieden? - Künstliche Intelligenz könn
 te jedenfalls das Potential dazu besitzen. Generativ erzeugte Texte\, Bild 
 und Videos\, Social-Bots\, die in Debatten intervenieren und Propaganda ode
 r andere demokratiefeindliche Narrative verstärken. Wo also stehen wir akt
 uell – kurz nach den Wahlen in den USA –\, wenn es um den Einfluss von 
 KI auf demokratische Prozesse geht?\n\nhttps://www.bpb.de/veranstaltungen/r
 eihen/ki-am-mittag/569594/ki-desinformation-im-kontext-von-wahlen/
URL;VALUE=URI:https://www.bpb.de/veranstaltungen/reihen/ki-am-mittag/569594
 /ki-desinformation-im-kontext-von-wahlen/
SUMMARY:KI & Desinformation im Kontext von Wahlen
END:VEVENT
END:VCALENDAR
