BEGIN:VCALENDAR
VERSION:2.0
PRODID:-//hacksw/handcal//NONSGML v1.0//EN
CALSCALE:GREGORIAN
BEGIN:VTIMEZONE
TZID:Europe/Berlin
X-LIC-LOCATION:Europe/Berlin
BEGIN:DAYLIGHT
TZOFFSETFROM:+0100
TZOFFSETTO:+0200
TZNAME:CEST
DTSTART:19700329T020000
RRULE:FREQ=YEARLY;INTERVAL=1;BYDAY=-1SU;BYMONTH=3
END:DAYLIGHT
BEGIN:STANDARD
TZOFFSETFROM:+0200
TZOFFSETTO:+0100
TZNAME:CET
DTSTART:19701025T030000
RRULE:FREQ=YEARLY;INTERVAL=1;BYDAY=-1SU;BYMONTH=10
END:STANDARD
END:VTIMEZONE
BEGIN:VEVENT
DTSTART;TZID=Europe/Berlin:20250402T130000
DTEND;TZID=Europe/Berlin:20250402T140000
UID:69e53f743f11f
DTSTAMP:20260419T204748Z
LOCATION:
DESCRIPTION:Rechtsextreme Songs\, Memes\, ja sogar â€žInfluencerinnenâ€œ â€
 “ alles KI generiert. Auch deutsche rechtsextreme Akteur*innen wissen\, gen
 erative KI gezielt und effektiv zu nutzen.\n\nhttps://www.bpb.de/veranstalt
 ungen/reihen/ki-am-mittag/569597/generative-ki-und-die-deutsche-extreme-rec
 hte/
URL;VALUE=URI:https://www.bpb.de/veranstaltungen/reihen/ki-am-mittag/569597
 /generative-ki-und-die-deutsche-extreme-rechte/
SUMMARY:Generative KI und die deutsche extreme Rechte
END:VEVENT
END:VCALENDAR
