BEGIN:VCALENDAR
VERSION:2.0
PRODID:-//hacksw/handcal//NONSGML v1.0//EN
CALSCALE:GREGORIAN
BEGIN:VTIMEZONE
TZID:Europe/Berlin
X-LIC-LOCATION:Europe/Berlin
BEGIN:DAYLIGHT
TZOFFSETFROM:+0100
TZOFFSETTO:+0200
TZNAME:CEST
DTSTART:19700329T020000
RRULE:FREQ=YEARLY;INTERVAL=1;BYDAY=-1SU;BYMONTH=3
END:DAYLIGHT
BEGIN:STANDARD
TZOFFSETFROM:+0200
TZOFFSETTO:+0100
TZNAME:CET
DTSTART:19701025T030000
RRULE:FREQ=YEARLY;INTERVAL=1;BYDAY=-1SU;BYMONTH=10
END:STANDARD
END:VTIMEZONE
BEGIN:VEVENT
DTSTART;TZID=Europe/Berlin:20250514T140000
DTEND;TZID=Europe/Berlin:20250514T150000
UID:69e53f67eadb9
DTSTAMP:20260419T204735Z
LOCATION:
DESCRIPTION:KI-Modelle haben in den letzten zwei Jahren ein komplett neues 
 Feld der Anwendungen geschaffen. Texte\, Bilder\, Ton und Videos lassen sic
 h in einer Qualität erzeugen\, die bisher Profis vorbehalten war.  Eine Fr
 age bleibt bei dieser rasanten Geschwindigkeit jedoch häufig auf der Strec
 ke: Wie finden wir das? Ist das eigentlich ok?\n\nhttps://www.bpb.de/verans
 taltungen/reihen/ki-am-mittag/569598/ki-und-ethik-ueber-die-verantwortungsv
 olle-entwicklung-und-nutzung-generativer-ki/
URL;VALUE=URI:https://www.bpb.de/veranstaltungen/reihen/ki-am-mittag/569598
 /ki-und-ethik-ueber-die-verantwortungsvolle-entwicklung-und-nutzung-generat
 iver-ki/
SUMMARY:KI und Ethik - Über die verantwortungsvolle Entwicklung und Nutzun
 g generativer KI
END:VEVENT
END:VCALENDAR
