BEGIN:VCALENDAR
VERSION:2.0
PRODID:-//hacksw/handcal//NONSGML v1.0//EN
CALSCALE:GREGORIAN
BEGIN:VTIMEZONE
TZID:Europe/Berlin
X-LIC-LOCATION:Europe/Berlin
BEGIN:DAYLIGHT
TZOFFSETFROM:+0100
TZOFFSETTO:+0200
TZNAME:CEST
DTSTART:19700329T020000
RRULE:FREQ=YEARLY;INTERVAL=1;BYDAY=-1SU;BYMONTH=3
END:DAYLIGHT
BEGIN:STANDARD
TZOFFSETFROM:+0200
TZOFFSETTO:+0100
TZNAME:CET
DTSTART:19701025T030000
RRULE:FREQ=YEARLY;INTERVAL=1;BYDAY=-1SU;BYMONTH=10
END:STANDARD
END:VTIMEZONE
BEGIN:VEVENT
DTSTART;TZID=Europe/Berlin:20251016T160000
DTEND;TZID=Europe/Berlin:20251016T210000
UID:69e9151d2a63f
DTSTAMP:20260422T183613Z
LOCATION:Westflügel Leipzig
DESCRIPTION:\n\nhttps://www.bpb.de/pift2025/kalender-2025/569736/eol-end-of
 -life-eine-virtuelle-ruinenlandschaft/
URL;VALUE=URI:https://www.bpb.de/pift2025/kalender-2025/569736/eol-end-of-l
 ife-eine-virtuelle-ruinenlandschaft/
SUMMARY:[EOL]. End of Life. Eine virtuelle Ruinenlandschaft
END:VEVENT
END:VCALENDAR
