BEGIN:VCALENDAR
VERSION:2.0
PRODID:-//hacksw/handcal//NONSGML v1.0//EN
CALSCALE:GREGORIAN
BEGIN:VTIMEZONE
TZID:Europe/Berlin
X-LIC-LOCATION:Europe/Berlin
BEGIN:DAYLIGHT
TZOFFSETFROM:+0100
TZOFFSETTO:+0200
TZNAME:CEST
DTSTART:19700329T020000
RRULE:FREQ=YEARLY;INTERVAL=1;BYDAY=-1SU;BYMONTH=3
END:DAYLIGHT
BEGIN:STANDARD
TZOFFSETFROM:+0200
TZOFFSETTO:+0100
TZNAME:CET
DTSTART:19701025T030000
RRULE:FREQ=YEARLY;INTERVAL=1;BYDAY=-1SU;BYMONTH=10
END:STANDARD
END:VTIMEZONE
BEGIN:VEVENT
DTSTART;TZID=Europe/Berlin:20251016T110000
DTEND;TZID=Europe/Berlin:20251016T120000
UID:69e915897329a
DTSTAMP:20260422T183801Z
LOCATION:LOFFT – DAS THEATER
DESCRIPTION:\n\nhttps://www.bpb.de/pift2025/kalender-2025/569752/ich-kann-s
 -nicht-lassen-ein-partizipatives-stueck-mit-krump-taenzer-innen/
URL;VALUE=URI:https://www.bpb.de/pift2025/kalender-2025/569752/ich-kann-s-n
 icht-lassen-ein-partizipatives-stueck-mit-krump-taenzer-innen/
SUMMARY:ICH KANN’S NICHT LASSEN. Ein partizipatives Stück mit Krump-Tän
 zer*innen
END:VEVENT
END:VCALENDAR
