BEGIN:VCALENDAR
VERSION:2.0
PRODID:-//hacksw/handcal//NONSGML v1.0//EN
CALSCALE:GREGORIAN
BEGIN:VTIMEZONE
TZID:Europe/Berlin
X-LIC-LOCATION:Europe/Berlin
BEGIN:DAYLIGHT
TZOFFSETFROM:+0100
TZOFFSETTO:+0200
TZNAME:CEST
DTSTART:19700329T020000
RRULE:FREQ=YEARLY;INTERVAL=1;BYDAY=-1SU;BYMONTH=3
END:DAYLIGHT
BEGIN:STANDARD
TZOFFSETFROM:+0200
TZOFFSETTO:+0100
TZNAME:CET
DTSTART:19701025T030000
RRULE:FREQ=YEARLY;INTERVAL=1;BYDAY=-1SU;BYMONTH=10
END:STANDARD
END:VTIMEZONE
BEGIN:VEVENT
DTSTART;TZID=Europe/Berlin:20251023T090000
DTEND;TZID=Europe/Berlin:20251023T140000
UID:69ea20c6df0fb
DTSTAMP:20260423T133814Z
LOCATION:Bruno-Plache-Stadion
DESCRIPTION:\n\nhttps://www.bpb.de/pift2025/kalender-2025/570121/ddr-und-fu
 ssball-abseits-ist-wenn-der-staat-pfeift/
URL;VALUE=URI:https://www.bpb.de/pift2025/kalender-2025/570121/ddr-und-fuss
 ball-abseits-ist-wenn-der-staat-pfeift/
SUMMARY:DDR und Fußball – Abseits ist\, wenn der Staat pfeift?!
END:VEVENT
END:VCALENDAR
