BEGIN:VCALENDAR
VERSION:2.0
PRODID:-//hacksw/handcal//NONSGML v1.0//EN
CALSCALE:GREGORIAN
BEGIN:VTIMEZONE
TZID:Europe/Berlin
X-LIC-LOCATION:Europe/Berlin
BEGIN:DAYLIGHT
TZOFFSETFROM:+0100
TZOFFSETTO:+0200
TZNAME:CEST
DTSTART:19700329T020000
RRULE:FREQ=YEARLY;INTERVAL=1;BYDAY=-1SU;BYMONTH=3
END:DAYLIGHT
BEGIN:STANDARD
TZOFFSETFROM:+0200
TZOFFSETTO:+0100
TZNAME:CET
DTSTART:19701025T030000
RRULE:FREQ=YEARLY;INTERVAL=1;BYDAY=-1SU;BYMONTH=10
END:STANDARD
END:VTIMEZONE
BEGIN:VEVENT
DTSTART;TZID=Europe/Berlin:20251021T090000
DTEND;TZID=Europe/Berlin:20251021T140000
UID:69ea21093b1e5
DTSTAMP:20260423T133921Z
LOCATION:Bruno-Plache-Stadion
DESCRIPTION:\n\nhttps://www.bpb.de/pift2025/kalender-2025/570170/fairplay-o
 der-foulspiel-zwischen-meinungsfreiheit-und-hass-im-netz/
URL;VALUE=URI:https://www.bpb.de/pift2025/kalender-2025/570170/fairplay-ode
 r-foulspiel-zwischen-meinungsfreiheit-und-hass-im-netz/
SUMMARY:Fairplay oder Foulspiel? Zwischen Meinungsfreiheit und Hass im Netz
END:VEVENT
END:VCALENDAR
